BEGIN:VCALENDAR
VERSION:2.0
PRODID:-//Sarcoma Alliance - ECPv6.15.20//NONSGML v1.0//EN
CALSCALE:GREGORIAN
METHOD:PUBLISH
X-WR-CALNAME:Sarcoma Alliance
X-ORIGINAL-URL:https://sarcomaalliance.org
X-WR-CALDESC:Events for Sarcoma Alliance
REFRESH-INTERVAL;VALUE=DURATION:PT1H
X-Robots-Tag:noindex
X-PUBLISHED-TTL:PT1H
BEGIN:VTIMEZONE
TZID:America/Los_Angeles
BEGIN:DAYLIGHT
TZOFFSETFROM:-0800
TZOFFSETTO:-0700
TZNAME:PDT
DTSTART:20110313T100000
END:DAYLIGHT
BEGIN:STANDARD
TZOFFSETFROM:-0700
TZOFFSETTO:-0800
TZNAME:PST
DTSTART:20111106T090000
END:STANDARD
BEGIN:DAYLIGHT
TZOFFSETFROM:-0800
TZOFFSETTO:-0700
TZNAME:PDT
DTSTART:20120311T100000
END:DAYLIGHT
BEGIN:STANDARD
TZOFFSETFROM:-0700
TZOFFSETTO:-0800
TZNAME:PST
DTSTART:20121104T090000
END:STANDARD
BEGIN:DAYLIGHT
TZOFFSETFROM:-0800
TZOFFSETTO:-0700
TZNAME:PDT
DTSTART:20130310T100000
END:DAYLIGHT
BEGIN:STANDARD
TZOFFSETFROM:-0700
TZOFFSETTO:-0800
TZNAME:PST
DTSTART:20131103T090000
END:STANDARD
END:VTIMEZONE
BEGIN:VEVENT
DTSTART;VALUE=DATE:20120908
DTEND;VALUE=DATE:20120909
DTSTAMP:20260423T111118
CREATED:20120215T182945Z
LAST-MODIFIED:20210622T194841Z
UID:1196-1347062400-1347148799@sarcomaalliance.org
SUMMARY:U.S. Outrigger Championships -- Catalina Crossing\, September 8\, 2012\, Newport Beach\, CA
DESCRIPTION:First held in 1959\, the Catalina Crossing is the ultimate outrigger-canoe race in California. Teams from all over the state\, plus Canada\, Hawaii\, Guam and Japan\, come to compete in the two-day event. Women\, junior and coed teams race from Newport  Beach to Avalon on Saturday\, and men and master coed teams race back on Sunday. Ocean of Hope team members from Lanakila Outrigger Canoe Club raise money through  their own fundraising pages each year.
URL:https://sarcomaalliance.org/event/catalina-us-championship-outrigger/
LOCATION:New York\, NY\, United States
CATEGORIES:Ocean of Hope
END:VEVENT
END:VCALENDAR