BEGIN:VCALENDAR
VERSION:2.0
PRODID:-//Sarcoma Alliance - ECPv6.15.20//NONSGML v1.0//EN
CALSCALE:GREGORIAN
METHOD:PUBLISH
X-ORIGINAL-URL:https://sarcomaalliance.org
X-WR-CALDESC:Events for Sarcoma Alliance
REFRESH-INTERVAL;VALUE=DURATION:PT1H
X-Robots-Tag:noindex
X-PUBLISHED-TTL:PT1H
BEGIN:VTIMEZONE
TZID:America/Los_Angeles
BEGIN:DAYLIGHT
TZOFFSETFROM:-0800
TZOFFSETTO:-0700
TZNAME:PDT
DTSTART:20110313T100000
END:DAYLIGHT
BEGIN:STANDARD
TZOFFSETFROM:-0700
TZOFFSETTO:-0800
TZNAME:PST
DTSTART:20111106T090000
END:STANDARD
BEGIN:DAYLIGHT
TZOFFSETFROM:-0800
TZOFFSETTO:-0700
TZNAME:PDT
DTSTART:20120311T100000
END:DAYLIGHT
BEGIN:STANDARD
TZOFFSETFROM:-0700
TZOFFSETTO:-0800
TZNAME:PST
DTSTART:20121104T090000
END:STANDARD
BEGIN:DAYLIGHT
TZOFFSETFROM:-0800
TZOFFSETTO:-0700
TZNAME:PDT
DTSTART:20130310T100000
END:DAYLIGHT
BEGIN:STANDARD
TZOFFSETFROM:-0700
TZOFFSETTO:-0800
TZNAME:PST
DTSTART:20131103T090000
END:STANDARD
END:VTIMEZONE
BEGIN:VEVENT
DTSTART;VALUE=DATE:20120602
DTEND;VALUE=DATE:20120603
DTSTAMP:20260423T154821
CREATED:20111220T015334Z
LAST-MODIFIED:20220106T214433Z
UID:993-1338595200-1338681599@sarcomaalliance.org
SUMMARY:Hobie / Hennessey's US Paddleboard Championships\, June 2\, 2012\, Dana Point\, CA
DESCRIPTION:Hennessey’s Taverns of California hosts Hennessey’s SUP & Paddleboard Racing Series. This event will have a pro course of 6\, 8 or 9  miles\, depending on the board class\, plus a 4-mile fun course. Many Ocean of Hope team members will compete. \nThe race will start and finish adjacent to the Doheny Main Lifeguard Tower. Courses will be set using GPS and may change based on prevailing weather conditions. Elite races are anticipated to be beach start and beach finish\, but may change per surf and tide conditions. Recreational races are anticipated to be water start and beach finish\, but may change per surf and tide conditions.
URL:https://sarcomaalliance.org/event/united-states-paddleboard-championships/
LOCATION:Doheny State Beach\, Dana Point\, CA\, United States
CATEGORIES:Ocean of Hope
END:VEVENT
END:VCALENDAR